BEGIN:VCALENDAR
VERSION:2.0
PRODID:-//Quadra Elementary - ECPv6.2.8.1//NONSGML v1.0//EN
CALSCALE:GREGORIAN
METHOD:PUBLISH
X-WR-CALNAME:Quadra Elementary
X-ORIGINAL-URL:https://quadra.sd61.bc.ca
X-WR-CALDESC:Events for Quadra Elementary
REFRESH-INTERVAL;VALUE=DURATION:PT1H
X-Robots-Tag:noindex
X-PUBLISHED-TTL:PT1H
BEGIN:VTIMEZONE
TZID:America/Vancouver
BEGIN:DAYLIGHT
TZOFFSETFROM:-0800
TZOFFSETTO:-0700
TZNAME:PDT
DTSTART:20170312T100000
END:DAYLIGHT
BEGIN:STANDARD
TZOFFSETFROM:-0700
TZOFFSETTO:-0800
TZNAME:PST
DTSTART:20171105T090000
END:STANDARD
END:VTIMEZONE
BEGIN:VEVENT
DTSTART;TZID=America/Vancouver:20170626T104500
DTEND;TZID=America/Vancouver:20170626T235000
DTSTAMP:20260421T022556
CREATED:20170611T195558Z
LAST-MODIFIED:20170611T195558Z
UID:2590-1498473900-1498521000@quadra.sd61.bc.ca
SUMMARY:Fun Day
DESCRIPTION:This is student activity time where fun activities are provided for all to enjoy. This will take place at the school at 10:45 – 11:50 am. Parent volunteers are always welcome to help out with activities.
URL:https://quadra.sd61.bc.ca/calendar-event/fun-day/
LOCATION:British Columbia
END:VEVENT
END:VCALENDAR