BEGIN:VCALENDAR
VERSION:2.0
PRODID:-//Quadra Elementary - ECPv6.2.8.1//NONSGML v1.0//EN
CALSCALE:GREGORIAN
METHOD:PUBLISH
X-ORIGINAL-URL:https://quadra.sd61.bc.ca
X-WR-CALDESC:Events for Quadra Elementary
REFRESH-INTERVAL;VALUE=DURATION:PT1H
X-Robots-Tag:noindex
X-PUBLISHED-TTL:PT1H
BEGIN:VTIMEZONE
TZID:America/Vancouver
BEGIN:DAYLIGHT
TZOFFSETFROM:-0800
TZOFFSETTO:-0700
TZNAME:PDT
DTSTART:20190310T100000
END:DAYLIGHT
BEGIN:STANDARD
TZOFFSETFROM:-0700
TZOFFSETTO:-0800
TZNAME:PST
DTSTART:20191103T090000
END:STANDARD
END:VTIMEZONE
BEGIN:VEVENT
DTSTART;VALUE=DATE:20190421
DTEND;VALUE=DATE:20190422
DTSTAMP:20260425T105926
CREATED:20140924T022427Z
LAST-MODIFIED:20180805T221206Z
UID:1562-1555804800-1555891199@quadra.sd61.bc.ca
SUMMARY:Easter
DESCRIPTION:Easter Sunday in Canada celebrates Jesus Christ’s resurrection after his death\, which is described in the Christian Bible. Some people observe Easter Sunday by attending church while others spend time with their families and friends or engage in Easter egg activities.
URL:https://quadra.sd61.bc.ca/calendar-event/easter/
LOCATION:British Columbia
END:VEVENT
END:VCALENDAR