BEGIN:VCALENDAR
VERSION:2.0
PRODID:-//Quadra Elementary - ECPv6.2.8.1//NONSGML v1.0//EN
CALSCALE:GREGORIAN
METHOD:PUBLISH
X-WR-CALNAME:Quadra Elementary
X-ORIGINAL-URL:https://quadra.sd61.bc.ca
X-WR-CALDESC:Events for Quadra Elementary
REFRESH-INTERVAL;VALUE=DURATION:PT1H
X-Robots-Tag:noindex
X-PUBLISHED-TTL:PT1H
BEGIN:VTIMEZONE
TZID:America/Vancouver
BEGIN:DAYLIGHT
TZOFFSETFROM:-0800
TZOFFSETTO:-0700
TZNAME:PDT
DTSTART:20190310T100000
END:DAYLIGHT
BEGIN:STANDARD
TZOFFSETFROM:-0700
TZOFFSETTO:-0800
TZNAME:PST
DTSTART:20191103T090000
END:STANDARD
END:VTIMEZONE
BEGIN:VEVENT
DTSTART;TZID=America/Vancouver:20190426T130000
DTEND;TZID=America/Vancouver:20190426T143000
DTSTAMP:20260425T091257
CREATED:20160426T002822Z
LAST-MODIFIED:20180805T215008Z
UID:1807-1556283600-1556289000@quadra.sd61.bc.ca
SUMMARY:Jump Rope for Heart
DESCRIPTION:Students in their classes will enjoy an afternoon of heart healthy exercise based on skipping.  Students have been encourage to seek sponsors or donations for the Heart and Stroke Foundation as so many of our families have been affected by these health problems.
URL:https://quadra.sd61.bc.ca/calendar-event/jump-rope-for-heart/
LOCATION:At the school\, 3031 Quadra Street\, Victoria\, British Columbia\, V8T 4G2\, Canada
END:VEVENT
END:VCALENDAR