BEGIN:VCALENDAR
VERSION:2.0
PRODID:-//Quadra Elementary - ECPv6.2.8.1//NONSGML v1.0//EN
CALSCALE:GREGORIAN
METHOD:PUBLISH
X-WR-CALNAME:Quadra Elementary
X-ORIGINAL-URL:https://quadra.sd61.bc.ca
X-WR-CALDESC:Events for Quadra Elementary
REFRESH-INTERVAL;VALUE=DURATION:PT1H
X-Robots-Tag:noindex
X-PUBLISHED-TTL:PT1H
BEGIN:VTIMEZONE
TZID:America/Vancouver
BEGIN:DAYLIGHT
TZOFFSETFROM:-0800
TZOFFSETTO:-0700
TZNAME:PDT
DTSTART:20190310T100000
END:DAYLIGHT
BEGIN:STANDARD
TZOFFSETFROM:-0700
TZOFFSETTO:-0800
TZNAME:PST
DTSTART:20191103T090000
END:STANDARD
END:VTIMEZONE
BEGIN:VEVENT
DTSTART;VALUE=DATE:20190510
DTEND;VALUE=DATE:20190511
DTSTAMP:20260425T181709
CREATED:20180419T161652Z
LAST-MODIFIED:20180805T214725Z
UID:2970-1557446400-1557532799@quadra.sd61.bc.ca
SUMMARY:Rugby Jamboree
DESCRIPTION:This is a mini jamboree where our extra-murals rugby team will participate. Students will play 3-4 games throughout the day.  Family and friends are welcome to come and cheer on the team.
URL:https://quadra.sd61.bc.ca/calendar-event/rugby-jamboree/
LOCATION:British Columbia
END:VEVENT
BEGIN:VEVENT
DTSTART;VALUE=DATE:20190511
DTEND;VALUE=DATE:20190512
DTSTAMP:20260425T181709
CREATED:20140924T022757Z
LAST-MODIFIED:20180805T214441Z
UID:1563-1557532800-1557619199@quadra.sd61.bc.ca
SUMMARY:Quadra Village Day
DESCRIPTION:A family fun day in the Quadra Village takes place along Kings Street.  Don’t miss the pancake breakfast\, fun activities for kids\, opportunities for kids to make Mother’s Day gifts and music for all to enjoy!
URL:https://quadra.sd61.bc.ca/calendar-event/quadra-village-day/
LOCATION:British Columbia
END:VEVENT
END:VCALENDAR